BEGIN:VCALENDAR
VERSION:2.0
PRODID:-//centralnebraskacap.com//NONSGML kigkonsult.se iCalcreator 2.30.10
 //
CALSCALE:GREGORIAN
METHOD:PUBLISH
UID:7b3ebe61-a075-4b2e-ae92-601141906305
X-WR-CALDESC:For information or an appointment\, please call 308-745-0780 E
 xt. 103.
X-WR-RELCALID:42cd7bdf5d27acbda62489f36b4631ad
X-WR-TIMEZONE:America/Chicago
BEGIN:VTIMEZONE
TZID:America/Chicago
BEGIN:STANDARD
TZNAME:CST
DTSTART:20241103T020000
TZOFFSETFROM:-0500
TZOFFSETTO:-0600
RDATE:20251102T020000
END:STANDARD
BEGIN:DAYLIGHT
TZNAME:CDT
DTSTART:20240310T020000
TZOFFSETFROM:-0600
TZOFFSETTO:-0500
RDATE:20250309T020000
RDATE:20260308T020000
END:DAYLIGHT
END:VTIMEZONE
BEGIN:VEVENT
UID:f719a896-d267-4535-8781-20467073275c
DTSTAMP:20260423T074325Z
DESCRIPTION:For information or an appointment\, please call 308-745-0780 Ex
 t. 103.
DTSTART;TZID=America/Chicago:20241219T130000
DTEND;TZID=America/Chicago:20241219T140000
LOCATION:
SUMMARY:Burwell Commodities Deliveries
END:VEVENT
END:VCALENDAR
