BEGIN:VCALENDAR
VERSION:2.0
PRODID:-//centralnebraskacap.com//NONSGML kigkonsult.se iCalcreator 2.30.10
 //
CALSCALE:GREGORIAN
METHOD:PUBLISH
UID:d9185183-1f7e-473b-b400-94a94d9d6a67
X-WR-CALDESC:Appointments are required. If you are unable to pick up this d
 ay\, or miss your appointment\, please call 308-745-0780 Ext. 103. Someone
  will get back to you as soon as they are able.
X-WR-RELCALID:9be4c66dc49dcbb2379f55ef649009f5
X-WR-TIMEZONE:America/Chicago
BEGIN:VTIMEZONE
TZID:America/Chicago
BEGIN:STANDARD
TZNAME:CST
DTSTART:20241103T020000
TZOFFSETFROM:-0500
TZOFFSETTO:-0600
RDATE:20251102T020000
END:STANDARD
BEGIN:DAYLIGHT
TZNAME:CDT
DTSTART:20240310T020000
TZOFFSETFROM:-0600
TZOFFSETTO:-0500
RDATE:20250309T020000
RDATE:20260308T020000
END:DAYLIGHT
END:VTIMEZONE
BEGIN:VEVENT
UID:a9b236a7-e0f0-4841-8f79-069ef8390041
DTSTAMP:20260423T084007Z
DESCRIPTION:Appointments are required. If you are unable to pick up this da
 y\, or miss your appointment\, please call 308-745-0780 Ext. 103. Someone 
 will get back to you as soon as they are able.
DTSTART;TZID=America/Chicago:20241211T100000
DTEND;TZID=America/Chicago:20241211T160000
LOCATION:739 O Street\, Loup City\, NE 68853 US
SUMMARY:Loup City Commodities Clinic
END:VEVENT
END:VCALENDAR
