BEGIN:VCALENDAR
VERSION:2.0
PRODID:-//centralnebraskacap.com//NONSGML kigkonsult.se iCalcreator 2.30.10
 //
CALSCALE:GREGORIAN
METHOD:PUBLISH
UID:fcb9e56f-a809-4352-b425-1d73efa71de5
X-WR-CALDESC:Appointments are required. If you are unable to pick up this d
 ay\, or miss your appointment\, please call 308-745-0780 Ext. 103. Someone
  will get back to you as soon as they are able.
X-WR-RELCALID:7864ce03ac7f2f6f7d2c3677de9362f0
X-WR-TIMEZONE:America/Chicago
BEGIN:VTIMEZONE
TZID:America/Chicago
BEGIN:STANDARD
TZNAME:CST
DTSTART:20241103T020000
TZOFFSETFROM:-0500
TZOFFSETTO:-0600
RDATE:20251102T020000
END:STANDARD
BEGIN:DAYLIGHT
TZNAME:CDT
DTSTART:20240310T020000
TZOFFSETFROM:-0600
TZOFFSETTO:-0500
RDATE:20250309T020000
RDATE:20260308T020000
END:DAYLIGHT
END:VTIMEZONE
BEGIN:VEVENT
UID:53caef53-b324-47de-abcd-c003a82f1b6f
DTSTAMP:20260423T075154Z
DESCRIPTION:Appointments are required. If you are unable to pick up this da
 y\, or miss your appointment\, please call 308-745-0780 Ext. 103. Someone 
 will get back to you as soon as they are able.
DTSTART;TZID=America/Chicago:20241204T100000
DTEND;TZID=America/Chicago:20241204T160000
LOCATION:739 O Street\, Loup City\, NE 68853 US
SUMMARY:Loup City Commodities Clinic
END:VEVENT
END:VCALENDAR
