BEGIN:VCALENDAR
VERSION:2.0
PRODID:-//centralnebraskacap.com//NONSGML kigkonsult.se iCalcreator 2.30.10
 //
CALSCALE:GREGORIAN
METHOD:PUBLISH
UID:21f737dc-41f1-4cbf-93f4-583a1ff9216f
X-WR-CALDESC:
X-WR-RELCALID:ba5f880b83db49254c9272648c113b61
X-WR-TIMEZONE:America/Chicago
BEGIN:VTIMEZONE
TZID:America/Chicago
BEGIN:STANDARD
TZNAME:CST
DTSTART:20241103T020000
TZOFFSETFROM:-0500
TZOFFSETTO:-0600
RDATE:20251102T020000
END:STANDARD
BEGIN:DAYLIGHT
TZNAME:CDT
DTSTART:20240310T020000
TZOFFSETFROM:-0600
TZOFFSETTO:-0500
RDATE:20250309T020000
RDATE:20260308T020000
END:DAYLIGHT
END:VTIMEZONE
BEGIN:VEVENT
UID:894acbdc-f700-4d97-8217-d505e9ac5dcf
DTSTAMP:20260423T074221Z
DESCRIPTION:
DTSTART;TZID=America/Chicago:20241204T090000
DTEND;TZID=America/Chicago:20241204T160000
LOCATION:2525 Old Potash Hwy\, Grand Island\, NE 68803 US
SUMMARY:Grand Island Commodities Clinic
END:VEVENT
END:VCALENDAR
