BEGIN:VCALENDAR
VERSION:2.0
PRODID:-//centralnebraskacap.com//NONSGML kigkonsult.se iCalcreator 2.30.10
 //
CALSCALE:GREGORIAN
METHOD:PUBLISH
UID:883af794-90f7-4237-8f0b-80ace4c1f3c8
X-WR-CALDESC:Appointments are required. For information or an appointment\,
  call 402-336-4298 Ext. 503. If you are unable to pick up this day\, or mi
 ss your appointment\, please call and leave a message. Someone will get ba
 ck to you as soon as they are able.
X-WR-RELCALID:ea2a8813302ac40fc04242ebd798dfe5
X-WR-TIMEZONE:America/Chicago
BEGIN:VTIMEZONE
TZID:America/Chicago
BEGIN:STANDARD
TZNAME:CST
DTSTART:20241103T020000
TZOFFSETFROM:-0500
TZOFFSETTO:-0600
RDATE:20251102T020000
END:STANDARD
BEGIN:DAYLIGHT
TZNAME:CDT
DTSTART:20240310T020000
TZOFFSETFROM:-0600
TZOFFSETTO:-0500
RDATE:20250309T020000
RDATE:20260308T020000
END:DAYLIGHT
END:VTIMEZONE
BEGIN:VEVENT
UID:2e1a6f9c-6606-4dd3-8d0e-742fcceb9929
DTSTAMP:20260423T091744Z
DESCRIPTION:Appointments are required. For information or an appointment\, 
 call 402-336-4298 Ext. 503. If you are unable to pick up this day\, or mis
 s your appointment\, please call and leave a message. Someone will get bac
 k to you as soon as they are able.
DTSTART;TZID=America/Chicago:20241115T133000
DTEND;TZID=America/Chicago:20241115T150000
LOCATION:120 S Green Street\, #9\, Valentine\, NE 69201 US
SUMMARY:Valentine Commodities Clinic
END:VEVENT
END:VCALENDAR
