BEGIN:VCALENDAR
VERSION:2.0
PRODID:-//centralnebraskacap.com//NONSGML kigkonsult.se iCalcreator 2.30.10
 //
CALSCALE:GREGORIAN
METHOD:PUBLISH
UID:bbf591f3-fa5a-4823-b239-31c973561c80
X-WR-CALDESC:
X-WR-RELCALID:cc1738375c40d6e020644ee8c413f1d7
X-WR-TIMEZONE:America/Chicago
BEGIN:VTIMEZONE
TZID:America/Chicago
BEGIN:STANDARD
TZNAME:CST
DTSTART:20241103T020000
TZOFFSETFROM:-0500
TZOFFSETTO:-0600
RDATE:20251102T020000
END:STANDARD
BEGIN:DAYLIGHT
TZNAME:CDT
DTSTART:20240310T020000
TZOFFSETFROM:-0600
TZOFFSETTO:-0500
RDATE:20250309T020000
RDATE:20260308T020000
END:DAYLIGHT
END:VTIMEZONE
BEGIN:VEVENT
UID:afc08ab6-d362-4509-8840-178fd69d4418
DTSTAMP:20260423T092630Z
DESCRIPTION:
DTSTART;TZID=America/Chicago:20241107T090000
DTEND;TZID=America/Chicago:20241107T160000
LOCATION:3362 53rd Ave.\, Columbus\, NE 68601 US
SUMMARY:Columbus Commodities Clinic
END:VEVENT
END:VCALENDAR
