BEGIN:VCALENDAR
VERSION:2.0
PRODID:-//centralnebraskacap.com//NONSGML kigkonsult.se iCalcreator 2.30.10
 //
CALSCALE:GREGORIAN
METHOD:PUBLISH
UID:62bf38cd-cfe7-4d5c-8f71-90266991fcd7
X-WR-CALDESC:Appointments are required. For information or an appointment\,
  call 402-336-4298 Ext. 503. If you are unable to pick up this day\, or mi
 ss your appointment\, please call and leave a message. Someone will get ba
 ck to you as soon as they are able.
X-WR-RELCALID:02132ebc02e3e7b85f4876c55d08d960
X-WR-TIMEZONE:America/Chicago
BEGIN:VTIMEZONE
TZID:America/Chicago
BEGIN:STANDARD
TZNAME:CST
DTSTART:20241103T020000
TZOFFSETFROM:-0500
TZOFFSETTO:-0600
RDATE:20251102T020000
END:STANDARD
BEGIN:DAYLIGHT
TZNAME:CDT
DTSTART:20240310T020000
TZOFFSETFROM:-0600
TZOFFSETTO:-0500
RDATE:20250309T020000
RDATE:20260308T020000
END:DAYLIGHT
END:VTIMEZONE
BEGIN:VEVENT
UID:4b243289-5c77-4f78-bab2-1b3ca1f5ad2a
DTSTAMP:20260423T092159Z
DESCRIPTION:Appointments are required. For information or an appointment\, 
 call 402-336-4298 Ext. 503. If you are unable to pick up this day\, or mis
 s your appointment\, please call and leave a message. Someone will get bac
 k to you as soon as they are able.
DTSTART;TZID=America/Chicago:20241105T090000
DTEND;TZID=America/Chicago:20241105T160000
LOCATION:202 S Tenth Street\, O'Neill\, NE 68763 US
SUMMARY:O'Neill Commodities Clinic
END:VEVENT
END:VCALENDAR
