BEGIN:VCALENDAR
VERSION:2.0
PRODID:-//centralnebraskacap.com//NONSGML kigkonsult.se iCalcreator 2.30.10
 //
CALSCALE:GREGORIAN
METHOD:PUBLISH
UID:d38641c6-044d-4c8a-8916-687a707fed3e
X-WR-CALDESC:Appointments are required. If you are unable to pick up this d
 ay\, or miss your appointment\, please call 308-745-0780 Ext. 103. Someone
  will get back to you as soon as they are able.
X-WR-RELCALID:8d82b368cfe8682152dc08037d20070d
X-WR-TIMEZONE:America/Chicago
BEGIN:VTIMEZONE
TZID:America/Chicago
BEGIN:STANDARD
TZNAME:CST
DTSTART:20231105T020000
TZOFFSETFROM:-0500
TZOFFSETTO:-0600
RDATE:20241103T020000
RDATE:20251102T020000
END:STANDARD
BEGIN:DAYLIGHT
TZNAME:CDT
DTSTART:20240310T020000
TZOFFSETFROM:-0600
TZOFFSETTO:-0500
RDATE:20250309T020000
RDATE:20260308T020000
END:DAYLIGHT
END:VTIMEZONE
BEGIN:VEVENT
UID:f4ac70a3-96c8-42f5-bcf8-f066d07b4bfb
DTSTAMP:20260423T105707Z
DESCRIPTION:Appointments are required. If you are unable to pick up this da
 y\, or miss your appointment\, please call 308-745-0780 Ext. 103. Someone 
 will get back to you as soon as they are able.
DTSTART;TZID=America/Chicago:20241009T100000
DTEND;TZID=America/Chicago:20241009T160000
LOCATION:739 O Street\, Loup City\, NE 68853 US
SUMMARY:Loup City Commodities Clinic
END:VEVENT
END:VCALENDAR
