BEGIN:VCALENDAR
VERSION:2.0
PRODID:-//centralnebraskacap.com//NONSGML kigkonsult.se iCalcreator 2.30.10
 //
CALSCALE:GREGORIAN
METHOD:PUBLISH
UID:15946c9b-18cc-48b8-a440-0128b8784af8
X-WR-CALDESC:
X-WR-RELCALID:909a78cd1c281ae7a46a4d3eb424caf5
X-WR-TIMEZONE:America/Chicago
BEGIN:VTIMEZONE
TZID:America/Chicago
BEGIN:STANDARD
TZNAME:CST
DTSTART:20231105T020000
TZOFFSETFROM:-0500
TZOFFSETTO:-0600
RDATE:20241103T020000
RDATE:20251102T020000
END:STANDARD
BEGIN:DAYLIGHT
TZNAME:CDT
DTSTART:20240310T020000
TZOFFSETFROM:-0600
TZOFFSETTO:-0500
RDATE:20250309T020000
RDATE:20260308T020000
END:DAYLIGHT
END:VTIMEZONE
BEGIN:VEVENT
UID:f8abc732-64ed-43a5-9e96-b4da6d4f2bbe
DTSTAMP:20260423T111120Z
DESCRIPTION:
DTSTART;TZID=America/Chicago:20241009T090000
DTEND;TZID=America/Chicago:20241009T160000
LOCATION:2525 Old Potash Hwy\, Grand Island\, NE 68803 US
SUMMARY:Grand Island Commodities Clinic
END:VEVENT
END:VCALENDAR
