BEGIN:VCALENDAR
VERSION:2.0
PRODID:-//centralnebraskacap.com//NONSGML kigkonsult.se iCalcreator 2.30.10
 //
CALSCALE:GREGORIAN
METHOD:PUBLISH
UID:b93c6206-ea0d-4b59-b8bf-70f7dc4814c5
X-WR-CALDESC:For information or an appointment\, please call 308-745-0780 E
 xt. 103.
X-WR-RELCALID:18a13e14621d2f1be96826d1b983a858
X-WR-TIMEZONE:America/Chicago
BEGIN:VTIMEZONE
TZID:America/Chicago
BEGIN:STANDARD
TZNAME:CST
DTSTART:20231105T020000
TZOFFSETFROM:-0500
TZOFFSETTO:-0600
RDATE:20241103T020000
RDATE:20251102T020000
END:STANDARD
BEGIN:DAYLIGHT
TZNAME:CDT
DTSTART:20240310T020000
TZOFFSETFROM:-0600
TZOFFSETTO:-0500
RDATE:20250309T020000
RDATE:20260308T020000
END:DAYLIGHT
END:VTIMEZONE
BEGIN:VEVENT
UID:a3cffd6a-79eb-4745-80af-99381f101d76
DTSTAMP:20260423T111334Z
DESCRIPTION:For information or an appointment\, please call 308-745-0780 Ex
 t. 103.
DTSTART;TZID=America/Chicago:20241007T090000
DTEND;TZID=America/Chicago:20241007T103000
LOCATION:
SUMMARY:Ord Commodities Deliveries
END:VEVENT
END:VCALENDAR
