BEGIN:VCALENDAR
VERSION:2.0
PRODID:-//centralnebraskacap.com//NONSGML kigkonsult.se iCalcreator 2.30.10
 //
CALSCALE:GREGORIAN
METHOD:PUBLISH
UID:190ea965-acb1-4b2f-9a88-5bd8c61108f8
X-WR-CALDESC:Appointments are required. If you are unable to pick up this d
 ay\, or miss your appointment\, please call 308-745-0780 Ext. 103. Someone
  will get back to you as soon as they are able.
X-WR-RELCALID:8aa12fe266bb4779ba42e696e818f140
X-WR-TIMEZONE:America/Chicago
BEGIN:VTIMEZONE
TZID:America/Chicago
BEGIN:STANDARD
TZNAME:CST
DTSTART:20231105T020000
TZOFFSETFROM:-0500
TZOFFSETTO:-0600
RDATE:20241103T020000
RDATE:20251102T020000
END:STANDARD
BEGIN:DAYLIGHT
TZNAME:CDT
DTSTART:20240310T020000
TZOFFSETFROM:-0600
TZOFFSETTO:-0500
RDATE:20250309T020000
RDATE:20260308T020000
END:DAYLIGHT
END:VTIMEZONE
BEGIN:VEVENT
UID:cc6ba1cf-c7da-453c-84ac-e7cce328e925
DTSTAMP:20260423T111657Z
DESCRIPTION:Appointments are required. If you are unable to pick up this da
 y\, or miss your appointment\, please call 308-745-0780 Ext. 103. Someone 
 will get back to you as soon as they are able.
DTSTART;TZID=America/Chicago:20241002T100000
DTEND;TZID=America/Chicago:20241002T160000
LOCATION:739 O Street\, Loup City\, NE 68853 US
SUMMARY:Loup City Commodities Clinic
END:VEVENT
END:VCALENDAR
