BEGIN:VCALENDAR
VERSION:2.0
PRODID:-//centralnebraskacap.com//NONSGML kigkonsult.se iCalcreator 2.30.10
 //
CALSCALE:GREGORIAN
METHOD:PUBLISH
UID:51f6d5c3-4444-4c76-9446-06c2d71df465
X-WR-CALDESC:
X-WR-RELCALID:c524648093deabeb56c04236c9efdb25
X-WR-TIMEZONE:America/Chicago
BEGIN:VTIMEZONE
TZID:America/Chicago
BEGIN:STANDARD
TZNAME:CST
DTSTART:20231105T020000
TZOFFSETFROM:-0500
TZOFFSETTO:-0600
RDATE:20241103T020000
RDATE:20251102T020000
END:STANDARD
BEGIN:DAYLIGHT
TZNAME:CDT
DTSTART:20240310T020000
TZOFFSETFROM:-0600
TZOFFSETTO:-0500
RDATE:20250309T020000
RDATE:20260308T020000
END:DAYLIGHT
END:VTIMEZONE
BEGIN:VEVENT
UID:ea228c82-e14b-41e0-8626-e7116c3b4efa
DTSTAMP:20260423T104926Z
DESCRIPTION:
DTSTART;TZID=America/Chicago:20241002T090000
DTEND;TZID=America/Chicago:20241002T160000
LOCATION:2525 Old Potash Hwy\, Grand Island\, NE 68803 US
SUMMARY:Grand Island Commodities Clinic
END:VEVENT
END:VCALENDAR
