BEGIN:VCALENDAR
VERSION:2.0
PRODID:-//centralnebraskacap.com//NONSGML kigkonsult.se iCalcreator 2.30.10
 //
CALSCALE:GREGORIAN
METHOD:PUBLISH
UID:e5bb6624-6f3f-484e-a0d6-6c0b5396931f
X-WR-CALDESC:Appointments are required. For information or an appointment\,
  call 402-336-4298 Ext. 503. If you are unable to pick up this day\, or mi
 ss your appointment\, please call and leave a message. Someone will get ba
 ck to you as soon as they are able.
X-WR-RELCALID:aa9f0b217503e70ee3a4c8178576cafa
X-WR-TIMEZONE:America/Chicago
BEGIN:VTIMEZONE
TZID:America/Chicago
BEGIN:STANDARD
TZNAME:CST
DTSTART:20231105T020000
TZOFFSETFROM:-0500
TZOFFSETTO:-0600
RDATE:20241103T020000
RDATE:20251102T020000
END:STANDARD
BEGIN:DAYLIGHT
TZNAME:CDT
DTSTART:20240310T020000
TZOFFSETFROM:-0600
TZOFFSETTO:-0500
RDATE:20250309T020000
RDATE:20260308T020000
END:DAYLIGHT
END:VTIMEZONE
BEGIN:VEVENT
UID:f4cc5cfb-0830-49ac-a21b-9119c4409db9
DTSTAMP:20260423T123257Z
DESCRIPTION:Appointments are required. For information or an appointment\, 
 call 402-336-4298 Ext. 503. If you are unable to pick up this day\, or mis
 s your appointment\, please call and leave a message. Someone will get bac
 k to you as soon as they are able.
DTSTART;TZID=America/Chicago:20240917T110000
DTEND;TZID=America/Chicago:20240917T130000
LOCATION:318 E 4th Street\, Ainsworth\, NE 69210 US
SUMMARY:Ainsworth Commodities Clinic
END:VEVENT
END:VCALENDAR
