BEGIN:VCALENDAR
VERSION:2.0
PRODID:-//centralnebraskacap.com//NONSGML kigkonsult.se iCalcreator 2.30.10
 //
CALSCALE:GREGORIAN
METHOD:PUBLISH
UID:1ba75bad-218c-4289-a108-05c5f0315ba6
X-WR-CALDESC:Appointments are required. For information or an appointment\,
  call 308-872-6540 Ext.600. If you are unable to pick up this day\, or mis
 s your appointment\, please call and leave a message. Someone will get bac
 k to you as soon as they are able.
X-WR-RELCALID:b8b6a7f40f91e5b22626228879c639f3
X-WR-TIMEZONE:America/Chicago
BEGIN:VTIMEZONE
TZID:America/Chicago
BEGIN:STANDARD
TZNAME:CST
DTSTART:20231105T020000
TZOFFSETFROM:-0500
TZOFFSETTO:-0600
RDATE:20241103T020000
RDATE:20251102T020000
END:STANDARD
BEGIN:DAYLIGHT
TZNAME:CDT
DTSTART:20240310T020000
TZOFFSETFROM:-0600
TZOFFSETTO:-0500
RDATE:20250309T020000
RDATE:20260308T020000
END:DAYLIGHT
END:VTIMEZONE
BEGIN:VEVENT
UID:49610e74-2d15-4c1d-9d5a-3856316256b9
DTSTAMP:20260423T123610Z
DESCRIPTION:Appointments are required. For information or an appointment\, 
 call 308-872-6540 Ext.600. If you are unable to pick up this day\, or miss
  your appointment\, please call and leave a message. Someone will get back
  to you as soon as they are able.
DTSTART;TZID=America/Chicago:20240917T100000
DTEND;TZID=America/Chicago:20240917T150000
LOCATION:924 East SE Street\, Broken Bow\, NE 68822 US
SUMMARY:Broken Bow Commodities Clinic
END:VEVENT
END:VCALENDAR
