BEGIN:VCALENDAR
VERSION:2.0
PRODID:-//centralnebraskacap.com//NONSGML kigkonsult.se iCalcreator 2.30.10
 //
CALSCALE:GREGORIAN
METHOD:PUBLISH
UID:7133c61b-8544-4a20-bc65-eab4857461b9
X-WR-CALDESC:Appointments are required. For information or an appointment\,
  call 402-336-4298 Ext. 503. If you are unable to pick up this day\, or mi
 ss your appointment\, please call and leave a message. Someone will get ba
 ck to you as soon as they are able.
X-WR-RELCALID:0b9b5a3a0d4b6fb71bf71f5c27886ffe
X-WR-TIMEZONE:America/Chicago
BEGIN:VTIMEZONE
TZID:America/Chicago
BEGIN:STANDARD
TZNAME:CST
DTSTART:20231105T020000
TZOFFSETFROM:-0500
TZOFFSETTO:-0600
RDATE:20241103T020000
RDATE:20251102T020000
END:STANDARD
BEGIN:DAYLIGHT
TZNAME:CDT
DTSTART:20240310T020000
TZOFFSETFROM:-0600
TZOFFSETTO:-0500
RDATE:20250309T020000
RDATE:20260308T020000
END:DAYLIGHT
END:VTIMEZONE
BEGIN:VEVENT
UID:38dcb885-e2da-4821-b97d-b41765fecd09
DTSTAMP:20260423T122934Z
DESCRIPTION:Appointments are required. For information or an appointment\, 
 call 402-336-4298 Ext. 503. If you are unable to pick up this day\, or mis
 s your appointment\, please call and leave a message. Someone will get bac
 k to you as soon as they are able.
DTSTART;TZID=America/Chicago:20240911T090000
DTEND;TZID=America/Chicago:20240911T160000
LOCATION:202 S Tenth Street\, O'Neill\, NE 68763 US
SUMMARY:O'Neill Commodities Clinic
END:VEVENT
END:VCALENDAR
