BEGIN:VCALENDAR
VERSION:2.0
PRODID:-//centralnebraskacap.com//NONSGML kigkonsult.se iCalcreator 2.30.10
 //
CALSCALE:GREGORIAN
METHOD:PUBLISH
UID:21e21e02-bcb5-477e-bc09-c426eed868ec
X-WR-CALDESC:
X-WR-RELCALID:8289b660da6d410ae2e24ad9fb14c7de
X-WR-TIMEZONE:America/Chicago
BEGIN:VTIMEZONE
TZID:America/Chicago
BEGIN:STANDARD
TZNAME:CST
DTSTART:20231105T020000
TZOFFSETFROM:-0500
TZOFFSETTO:-0600
RDATE:20241103T020000
RDATE:20251102T020000
END:STANDARD
BEGIN:DAYLIGHT
TZNAME:CDT
DTSTART:20240310T020000
TZOFFSETFROM:-0600
TZOFFSETTO:-0500
RDATE:20250309T020000
END:DAYLIGHT
END:VTIMEZONE
BEGIN:VEVENT
UID:053f2768-e025-4cde-b058-ef3576120978
DTSTAMP:20260423T121906Z
DESCRIPTION:
DTSTART;TZID=America/Chicago:20240905T090000
DTEND;TZID=America/Chicago:20240905T160000
LOCATION:3362 53rd Ave.\, Columbus\, NE 68601 US
SUMMARY:Columbus Commodities Clinic
END:VEVENT
END:VCALENDAR
