BEGIN:VCALENDAR
VERSION:2.0
PRODID:-//centralnebraskacap.com//NONSGML kigkonsult.se iCalcreator 2.30.10
 //
CALSCALE:GREGORIAN
METHOD:PUBLISH
UID:3c7fe13a-7137-4a05-a60e-fdced2cdfba8
X-WR-CALDESC:
X-WR-RELCALID:4c6546821feae10c14812f5a9b2dd048
X-WR-TIMEZONE:America/Chicago
BEGIN:VTIMEZONE
TZID:America/Chicago
BEGIN:STANDARD
TZNAME:CST
DTSTART:20231105T020000
TZOFFSETFROM:-0500
TZOFFSETTO:-0600
RDATE:20241103T020000
RDATE:20251102T020000
END:STANDARD
BEGIN:DAYLIGHT
TZNAME:CDT
DTSTART:20240310T020000
TZOFFSETFROM:-0600
TZOFFSETTO:-0500
RDATE:20250309T020000
END:DAYLIGHT
END:VTIMEZONE
BEGIN:VEVENT
UID:b49e8621-fbda-4820-9132-193c492b106b
DTSTAMP:20260423T122558Z
DESCRIPTION:
DTSTART;TZID=America/Chicago:20240904T090000
DTEND;TZID=America/Chicago:20240904T160000
LOCATION:3362 53rd Ave.\, Columbus\, NE 68601 US
SUMMARY:Columbus Commodities Clinic
END:VEVENT
END:VCALENDAR
