BEGIN:VCALENDAR
VERSION:2.0
PRODID:-//centralnebraskacap.com//NONSGML kigkonsult.se iCalcreator 2.30.10
 //
CALSCALE:GREGORIAN
METHOD:PUBLISH
UID:fc8f1167-c4be-41cc-9804-ec4dcb528b57
X-WR-CALDESC:For information or an appointment\, please call 308-745-0780 E
 xt. 103.
X-WR-RELCALID:15f184814564f91ad6149348cea0ad2b
X-WR-TIMEZONE:America/Chicago
BEGIN:VTIMEZONE
TZID:America/Chicago
BEGIN:STANDARD
TZNAME:CST
DTSTART:20231105T020000
TZOFFSETFROM:-0500
TZOFFSETTO:-0600
RDATE:20241103T020000
RDATE:20251102T020000
END:STANDARD
BEGIN:DAYLIGHT
TZNAME:CDT
DTSTART:20240310T020000
TZOFFSETFROM:-0600
TZOFFSETTO:-0500
RDATE:20250309T020000
END:DAYLIGHT
END:VTIMEZONE
BEGIN:VEVENT
UID:08a4f883-9a10-4cf5-be83-5b17354ce2b9
DTSTAMP:20260423T134558Z
DESCRIPTION:For information or an appointment\, please call 308-745-0780 Ex
 t. 103.
DTSTART;TZID=America/Chicago:20240822T130000
DTEND;TZID=America/Chicago:20240822T140000
LOCATION:
SUMMARY:Burwell Commodities Deliveries
END:VEVENT
END:VCALENDAR
