BEGIN:VCALENDAR
VERSION:2.0
PRODID:-//centralnebraskacap.com//NONSGML kigkonsult.se iCalcreator 2.30.10
 //
CALSCALE:GREGORIAN
METHOD:PUBLISH
UID:aa8d3f2e-8253-458a-8a5f-3e6e4de5097e
X-WR-CALDESC:
X-WR-RELCALID:6807ad644a25f996f8171e4a42fcfd2f
X-WR-TIMEZONE:America/Chicago
BEGIN:VTIMEZONE
TZID:America/Chicago
BEGIN:STANDARD
TZNAME:CST
DTSTART:20231105T020000
TZOFFSETFROM:-0500
TZOFFSETTO:-0600
RDATE:20241103T020000
RDATE:20251102T020000
END:STANDARD
BEGIN:DAYLIGHT
TZNAME:CDT
DTSTART:20240310T020000
TZOFFSETFROM:-0600
TZOFFSETTO:-0500
RDATE:20250309T020000
END:DAYLIGHT
END:VTIMEZONE
BEGIN:VEVENT
UID:d6c2a2d9-49cf-4d91-b618-06f42d0e6c55
DTSTAMP:20260423T141557Z
DESCRIPTION:
DTSTART;TZID=America/Chicago:20240806T090000
DTEND;TZID=America/Chicago:20240806T160000
LOCATION:3362 53rd Ave.\, Columbus\, NE 68601 US
SUMMARY:Columbus Commodities Clinic
END:VEVENT
END:VCALENDAR
