BEGIN:VCALENDAR
VERSION:2.0
PRODID:-//centralnebraskacap.com//NONSGML kigkonsult.se iCalcreator 2.30.10
 //
CALSCALE:GREGORIAN
METHOD:PUBLISH
UID:3b23d8f8-124a-4b2b-8023-d0f9fbfd39cc
X-WR-CALDESC:For questions or to volunteer\, please contact Kollin Forney.
X-WR-RELCALID:8367519b3bd2770343a832f4ffaf4af0
X-WR-TIMEZONE:America/Chicago
BEGIN:VTIMEZONE
TZID:America/Chicago
BEGIN:STANDARD
TZNAME:CST
DTSTART:20231105T020000
TZOFFSETFROM:-0500
TZOFFSETTO:-0600
RDATE:20241103T020000
RDATE:20251102T020000
END:STANDARD
BEGIN:DAYLIGHT
TZNAME:CDT
DTSTART:20240310T020000
TZOFFSETFROM:-0600
TZOFFSETTO:-0500
RDATE:20250309T020000
END:DAYLIGHT
END:VTIMEZONE
BEGIN:VEVENT
UID:d824ec25-7208-448d-952f-d3e4d2826b89
DTSTAMP:20260423T153709Z
DESCRIPTION:For questions or to volunteer\, please contact Kollin Forney.
DTSTART;TZID=America/Chicago:20240720T103000
DTEND;TZID=America/Chicago:20240720T123000
LOCATION:626 N St\, Loup City\, NE 68853 US
SUMMARY:Mobile Food Pantry
END:VEVENT
END:VCALENDAR
