BEGIN:VCALENDAR
VERSION:2.0
PRODID:-//centralnebraskacap.com//NONSGML kigkonsult.se iCalcreator 2.30.10
 //
CALSCALE:GREGORIAN
METHOD:PUBLISH
UID:329fd55e-f838-40e4-891f-1a408888c969
X-WR-CALDESC:Appointments are required. For information or an appointment\,
  call 308-872-6540 Ext.600. If you are unable to pick up this day\, or mis
 s your appointment\, please call and leave a message. Someone will get bac
 k to you as soon as they are able.
X-WR-RELCALID:87aea38f9b7bf53efbb58084a94647ca
X-WR-TIMEZONE:America/Chicago
BEGIN:VTIMEZONE
TZID:America/Chicago
BEGIN:STANDARD
TZNAME:CST
DTSTART:20231105T020000
TZOFFSETFROM:-0500
TZOFFSETTO:-0600
RDATE:20241103T020000
RDATE:20251102T020000
END:STANDARD
BEGIN:DAYLIGHT
TZNAME:CDT
DTSTART:20240310T020000
TZOFFSETFROM:-0600
TZOFFSETTO:-0500
RDATE:20250309T020000
END:DAYLIGHT
END:VTIMEZONE
BEGIN:VEVENT
UID:fe9bcf69-3fa4-46dc-ada0-6a0eef2ddbf2
DTSTAMP:20260423T153901Z
DESCRIPTION:Appointments are required. For information or an appointment\, 
 call 308-872-6540 Ext.600. If you are unable to pick up this day\, or miss
  your appointment\, please call and leave a message. Someone will get back
  to you as soon as they are able.
DTSTART;TZID=America/Chicago:20240716T100000
DTEND;TZID=America/Chicago:20240716T150000
LOCATION:924 East SE Street\, Broken Bow\, NE 68822 US
SUMMARY:Broken Bow Commodities Clinic
END:VEVENT
END:VCALENDAR
