BEGIN:VCALENDAR
VERSION:2.0
PRODID:-//centralnebraskacap.com//NONSGML kigkonsult.se iCalcreator 2.30.10
 //
CALSCALE:GREGORIAN
METHOD:PUBLISH
UID:dbb95986-590a-4ce8-aa1f-29439af4d6a3
X-WR-CALDESC:
X-WR-RELCALID:277558b434c2be901c7310084719037c
X-WR-TIMEZONE:America/Chicago
BEGIN:VTIMEZONE
TZID:America/Chicago
BEGIN:STANDARD
TZNAME:CST
DTSTART:20231105T020000
TZOFFSETFROM:-0500
TZOFFSETTO:-0600
RDATE:20241103T020000
RDATE:20251102T020000
END:STANDARD
BEGIN:DAYLIGHT
TZNAME:CDT
DTSTART:20240310T020000
TZOFFSETFROM:-0600
TZOFFSETTO:-0500
RDATE:20250309T020000
END:DAYLIGHT
END:VTIMEZONE
BEGIN:VEVENT
UID:d4954eb6-500d-4e96-9e96-20feaed75700
DTSTAMP:20260423T154025Z
DESCRIPTION:
DTSTART;TZID=America/Chicago:20240710T090000
DTEND;TZID=America/Chicago:20240710T160000
LOCATION:3362 53rd Ave.\, Columbus\, NE 68601 US
SUMMARY:Columbus Commodities Clinic
END:VEVENT
END:VCALENDAR
