BEGIN:VCALENDAR
VERSION:2.0
PRODID:-//centralnebraskacap.com//NONSGML kigkonsult.se iCalcreator 2.30.10
 //
CALSCALE:GREGORIAN
METHOD:PUBLISH
UID:a4fbabec-f3d8-4c18-a60a-2b5fa764853d
X-WR-CALDESC:
X-WR-RELCALID:0aa695d9e09dfecf8f5765d035bb4906
X-WR-TIMEZONE:America/Chicago
BEGIN:VTIMEZONE
TZID:America/Chicago
BEGIN:STANDARD
TZNAME:CST
DTSTART:20231105T020000
TZOFFSETFROM:-0500
TZOFFSETTO:-0600
RDATE:20241103T020000
RDATE:20251102T020000
END:STANDARD
BEGIN:DAYLIGHT
TZNAME:CDT
DTSTART:20240310T020000
TZOFFSETFROM:-0600
TZOFFSETTO:-0500
RDATE:20250309T020000
END:DAYLIGHT
END:VTIMEZONE
BEGIN:VEVENT
UID:8f80ca2e-8161-4a24-a649-c19b9f6c3834
DTSTAMP:20260423T154316Z
DESCRIPTION:
DTSTART;TZID=America/Chicago:20240703T090000
DTEND;TZID=America/Chicago:20240703T160000
LOCATION:2525 Old Potash Hwy\, Grand Island\, NE 68803 US
SUMMARY:Grand Island Commodities Clinic
END:VEVENT
END:VCALENDAR
