BEGIN:VCALENDAR
VERSION:2.0
PRODID:-//centralnebraskacap.com//NONSGML kigkonsult.se iCalcreator 2.30.10
 //
CALSCALE:GREGORIAN
METHOD:PUBLISH
UID:192e1071-c6ca-4762-ac1e-1f17cdbdf0f6
X-WR-CALDESC:Appointments are required. For information or an appointment\,
  call 402-336-4298 Ext. 503. If you are unable to pick up this day\, or mi
 ss your appointment\, please call and leave a message. Someone will get ba
 ck to you as soon as they are able.
X-WR-RELCALID:8d66c403c997189eafdc33159a6b3ef9
X-WR-TIMEZONE:America/Chicago
BEGIN:VTIMEZONE
TZID:America/Chicago
BEGIN:STANDARD
TZNAME:CST
DTSTART:20231105T020000
TZOFFSETFROM:-0500
TZOFFSETTO:-0600
RDATE:20241103T020000
RDATE:20251102T020000
END:STANDARD
BEGIN:DAYLIGHT
TZNAME:CDT
DTSTART:20240310T020000
TZOFFSETFROM:-0600
TZOFFSETTO:-0500
RDATE:20250309T020000
END:DAYLIGHT
END:VTIMEZONE
BEGIN:VEVENT
UID:118da367-7284-40a9-b6c3-767626840e41
DTSTAMP:20260423T153829Z
DESCRIPTION:Appointments are required. For information or an appointment\, 
 call 402-336-4298 Ext. 503. If you are unable to pick up this day\, or mis
 s your appointment\, please call and leave a message. Someone will get bac
 k to you as soon as they are able.
DTSTART;TZID=America/Chicago:20240702T090000
DTEND;TZID=America/Chicago:20240702T160000
LOCATION:202 S Tenth Street\, O'Neill\, NE 68763 US
SUMMARY:O'Neill Commodities Clinic
END:VEVENT
END:VCALENDAR
