BEGIN:VCALENDAR
VERSION:2.0
PRODID:-//centralnebraskacap.com//NONSGML kigkonsult.se iCalcreator 2.30.10
 //
CALSCALE:GREGORIAN
METHOD:PUBLISH
UID:82f2f630-316e-4a6d-af08-451030488c05
X-WR-CALDESC:For information or an appointment\, please call 308-745-0780 E
 xt. 103.
X-WR-RELCALID:48da76153777f6364119e1e224fa02f2
X-WR-TIMEZONE:America/Chicago
BEGIN:VTIMEZONE
TZID:America/Chicago
BEGIN:STANDARD
TZNAME:CST
DTSTART:20231105T020000
TZOFFSETFROM:-0500
TZOFFSETTO:-0600
RDATE:20241103T020000
RDATE:20251102T020000
END:STANDARD
BEGIN:DAYLIGHT
TZNAME:CDT
DTSTART:20240310T020000
TZOFFSETFROM:-0600
TZOFFSETTO:-0500
RDATE:20250309T020000
END:DAYLIGHT
END:VTIMEZONE
BEGIN:VEVENT
UID:4352243f-3d93-40ee-ac16-2fd33c5314f0
DTSTAMP:20260423T154225Z
DESCRIPTION:For information or an appointment\, please call 308-745-0780 Ex
 t. 103.
DTSTART;TZID=America/Chicago:20240701T130000
DTEND;TZID=America/Chicago:20240701T140000
LOCATION:
SUMMARY:St. Paul Commodities Deliveries
END:VEVENT
END:VCALENDAR
