BEGIN:VCALENDAR
VERSION:2.0
PRODID:-//centralnebraskacap.com//NONSGML kigkonsult.se iCalcreator 2.30.10
 //
CALSCALE:GREGORIAN
METHOD:PUBLISH
UID:f2073b17-640e-4c48-8302-88f68299aec3
X-WR-CALDESC:For information or an appointment\, please call 308-745-0780 E
 xt. 103.
X-WR-RELCALID:fc2476241501a6b385c3d278fcb03f7d
X-WR-TIMEZONE:America/Chicago
BEGIN:VTIMEZONE
TZID:America/Chicago
BEGIN:STANDARD
TZNAME:CST
DTSTART:20231105T020000
TZOFFSETFROM:-0500
TZOFFSETTO:-0600
RDATE:20241103T020000
RDATE:20251102T020000
END:STANDARD
BEGIN:DAYLIGHT
TZNAME:CDT
DTSTART:20240310T020000
TZOFFSETFROM:-0600
TZOFFSETTO:-0500
RDATE:20250309T020000
END:DAYLIGHT
END:VTIMEZONE
BEGIN:VEVENT
UID:9118af5d-42df-418e-ac8f-63d3bbfca3cd
DTSTAMP:20260423T171749Z
DESCRIPTION:For information or an appointment\, please call 308-745-0780 Ex
 t. 103.
DTSTART;TZID=America/Chicago:20240603T090000
DTEND;TZID=America/Chicago:20240603T103000
LOCATION:
SUMMARY:Ord Commodities Deliveries
END:VEVENT
END:VCALENDAR
