BEGIN:VCALENDAR
VERSION:2.0
PRODID:-//centralnebraskacap.com//NONSGML kigkonsult.se iCalcreator 2.30.10
 //
CALSCALE:GREGORIAN
METHOD:PUBLISH
UID:4612868f-1d0c-4866-ac16-1581bfcc5c7f
X-WR-CALDESC:
X-WR-RELCALID:fd0a2197405eedcd66169596efd5f75b
X-WR-TIMEZONE:America/Chicago
BEGIN:VTIMEZONE
TZID:America/Chicago
BEGIN:STANDARD
TZNAME:CST
DTSTART:20231105T020000
TZOFFSETFROM:-0500
TZOFFSETTO:-0600
RDATE:20241103T020000
RDATE:20251102T020000
END:STANDARD
BEGIN:DAYLIGHT
TZNAME:CDT
DTSTART:20240310T020000
TZOFFSETFROM:-0600
TZOFFSETTO:-0500
RDATE:20250309T020000
END:DAYLIGHT
END:VTIMEZONE
BEGIN:VEVENT
UID:203ef1d5-2d21-46f7-82f3-4a65a8bb9e32
DTSTAMP:20260423T184351Z
DESCRIPTION:
DTSTART;TZID=America/Chicago:20240514T090000
DTEND;TZID=America/Chicago:20240514T160000
LOCATION:2525 West Lincoln Hwy\, Grand Island\, NE 68803 US
SUMMARY:Grand Island Commodities Clinic
END:VEVENT
END:VCALENDAR
