BEGIN:VCALENDAR
VERSION:2.0
PRODID:-//centralnebraskacap.com//NONSGML kigkonsult.se iCalcreator 2.30.10
 //
CALSCALE:GREGORIAN
METHOD:PUBLISH
UID:4dfcd003-f140-4461-917a-4c500d77efc4
X-WR-CALDESC:
X-WR-RELCALID:123ff1302515c716cd8c3c08c52ee931
X-WR-TIMEZONE:America/Chicago
BEGIN:VTIMEZONE
TZID:America/Chicago
BEGIN:STANDARD
TZNAME:CST
DTSTART:20231105T020000
TZOFFSETFROM:-0500
TZOFFSETTO:-0600
RDATE:20241103T020000
RDATE:20251102T020000
END:STANDARD
BEGIN:DAYLIGHT
TZNAME:CDT
DTSTART:20240310T020000
TZOFFSETFROM:-0600
TZOFFSETTO:-0500
RDATE:20250309T020000
END:DAYLIGHT
END:VTIMEZONE
BEGIN:VEVENT
UID:9d8d9bbb-486f-4223-ac35-dca823fff99e
DTSTAMP:20260425T102559Z
DESCRIPTION:
DTSTART;TZID=America/Chicago:20240509T090000
DTEND;TZID=America/Chicago:20240509T160000
LOCATION:2525 West Lincoln Hwy\, Grand Island\, NE 68803 US
SUMMARY:Grand Island Commodities Clinic
END:VEVENT
END:VCALENDAR
