BEGIN:VCALENDAR
VERSION:2.0
PRODID:-//centralnebraskacap.com//NONSGML kigkonsult.se iCalcreator 2.30.10
 //
CALSCALE:GREGORIAN
METHOD:PUBLISH
UID:b046e016-5f46-43b3-84be-0c3df619138f
X-WR-CALDESC:
X-WR-RELCALID:cec264576aaf6eb79b3a24ab073fc191
X-WR-TIMEZONE:America/Chicago
BEGIN:VTIMEZONE
TZID:America/Chicago
BEGIN:STANDARD
TZNAME:CST
DTSTART:20231105T020000
TZOFFSETFROM:-0500
TZOFFSETTO:-0600
RDATE:20241103T020000
RDATE:20251102T020000
END:STANDARD
BEGIN:DAYLIGHT
TZNAME:CDT
DTSTART:20240310T020000
TZOFFSETFROM:-0600
TZOFFSETTO:-0500
RDATE:20250309T020000
END:DAYLIGHT
END:VTIMEZONE
BEGIN:VEVENT
UID:bc05675b-3523-4597-a5b2-806c1111a80e
DTSTAMP:20260425T104422Z
DESCRIPTION:
DTSTART;TZID=America/Chicago:20240507T090000
DTEND;TZID=America/Chicago:20240507T160000
LOCATION:2525 West Lincoln Hwy\, Grand Island\, NE 68803 US
SUMMARY:Grand Island Commodities Clinic
END:VEVENT
END:VCALENDAR
