BEGIN:VCALENDAR
VERSION:2.0
PRODID:-//centralnebraskacap.com//NONSGML kigkonsult.se iCalcreator 2.30.10
 //
CALSCALE:GREGORIAN
METHOD:PUBLISH
UID:c7feec3d-7f14-4f8a-8970-4b70da383ff9
X-WR-CALDESC:
X-WR-RELCALID:251f1a86ce12a04251b684654622d5c1
X-WR-TIMEZONE:America/Chicago
BEGIN:VTIMEZONE
TZID:America/Chicago
BEGIN:STANDARD
TZNAME:CST
DTSTART:20231105T020000
TZOFFSETFROM:-0500
TZOFFSETTO:-0600
RDATE:20241103T020000
END:STANDARD
BEGIN:DAYLIGHT
TZNAME:CDT
DTSTART:20240310T020000
TZOFFSETFROM:-0600
TZOFFSETTO:-0500
RDATE:20250309T020000
END:DAYLIGHT
END:VTIMEZONE
BEGIN:VEVENT
UID:bbb817ed-e00a-468b-8d87-0d698b2804f1
DTSTAMP:20260425T124211Z
DESCRIPTION:
DTSTART;TZID=America/Chicago:20240409T090000
DTEND;TZID=America/Chicago:20240409T160000
LOCATION:2525 West Lincoln Hwy\, Grand Island\, NE 68803 US
SUMMARY:Grand Island Commodities Clinic
END:VEVENT
END:VCALENDAR
