BEGIN:VCALENDAR
VERSION:2.0
PRODID:-//centralnebraskacap.com//NONSGML kigkonsult.se iCalcreator 2.30.10
 //
CALSCALE:GREGORIAN
METHOD:PUBLISH
UID:5bd3f040-1b31-4393-8ae9-c951c894371b
X-WR-CALDESC:Appointments are required. If you are unable to pick up this d
 ay\, or miss your appointment\, please call 308-745-0780 Ext. 103. Someone
  will get back to you as soon as they are able.
X-WR-RELCALID:9f59a03dcc3e0f415c0296c4e2d8726b
X-WR-TIMEZONE:America/Chicago
BEGIN:VTIMEZONE
TZID:America/Chicago
BEGIN:STANDARD
TZNAME:CST
DTSTART:20231105T020000
TZOFFSETFROM:-0500
TZOFFSETTO:-0600
RDATE:20241103T020000
END:STANDARD
BEGIN:DAYLIGHT
TZNAME:CDT
DTSTART:20240310T020000
TZOFFSETFROM:-0600
TZOFFSETTO:-0500
RDATE:20250309T020000
END:DAYLIGHT
END:VTIMEZONE
BEGIN:VEVENT
UID:ecfaacbb-169d-4948-a4bd-33eeb804f86c
DTSTAMP:20260425T121317Z
DESCRIPTION:Appointments are required. If you are unable to pick up this da
 y\, or miss your appointment\, please call 308-745-0780 Ext. 103. Someone 
 will get back to you as soon as they are able.
DTSTART;TZID=America/Chicago:20240403T100000
DTEND;TZID=America/Chicago:20240403T160000
LOCATION:739 O Street\, Loup City\, NE 68853 US
SUMMARY:Loup City Commodities Clinic
END:VEVENT
END:VCALENDAR
